BEGIN:VCALENDAR
VERSION:2.0
PRODID:-//5.44.111.181//NONSGML kigkonsult.se iCalcreator 2.20//
CALSCALE:GREGORIAN
METHOD:PUBLISH
X-WR-TIMEZONE:UTC
BEGIN:VEVENT
UID:event20@Ronsdorfer SG 1885
DTSTAMP:20260424T101122Z
CATEGORIES:sonstige Wettkämpfe
DESCRIPTION:Remscheider Pokalschwimmen\nKategorie: sonstige Wettkämpfe\nICS
 -Link: https://rsg1885.de/index.php?option=com_jem&view=event&id=20:remsch
 eider-pokalschwimmen\n
DTSTART:20171104T080000Z
DTEND:20171105T080000Z
LOCATION:Sportbad am Park\,Schützenplatz 3\,42853 Remscheid
SUMMARY:Remscheider Pokalschwimmen
URL:https://rsg1885.de/index.php?option=com_jem&view=event&id=20:remscheide
 r-pokalschwimmen
END:VEVENT
END:VCALENDAR