BEGIN:VCALENDAR
VERSION:2.0
PRODID:-//5.44.111.181//NONSGML kigkonsult.se iCalcreator 2.20//
CALSCALE:GREGORIAN
METHOD:PUBLISH
X-WR-TIMEZONE:UTC
BEGIN:VEVENT
UID:event639@Ronsdorfer SG 1885
DTSTAMP:20260423T141524Z
CATEGORIES:sonstige Wettkämpfe
DESCRIPTION:Ronsdorfer Schwimm-Olymp 2026\nKategorie: sonstige Wettkämpfe\n
 ICS-Link: https://rsg1885.de/index.php?option=com_jem&view=event&id=639:ro
 nsdorfer-schwimm-olymp-2026\n
DTSTART:20260425T100000Z
DTEND:20260425T130000Z
LOCATION:Bandwirker Bad\,Am Stadtbahnhof 30\,42369 Wuppertal\,Germany
SUMMARY:Ronsdorfer Schwimm-Olymp 2026
URL:https://rsg1885.de/index.php?option=com_jem&view=event&id=639:ronsdorfe
 r-schwimm-olymp-2026
END:VEVENT
BEGIN:VEVENT
UID:event218@Ronsdorfer SG 1885
DTSTAMP:20260423T141524Z
CATEGORIES:Training TG1\, Training TG2\, Training Masters/Wettkampfmannscha
 ft
DESCRIPTION:Training TG1 + TG2 + Masters / Wettkampfmannschaft\nKategorie: 
 Training TG1\, Training TG2\, Training Masters/Wettkampfmannschaft\nICS-Li
 nk: https://rsg1885.de/index.php?option=com_jem&view=event&id=218:training
 -tg1-tg2-masters-wettkampfmannschaft-samstag\n
DTSTART:20260425T173000Z
DTEND:20260425T193000Z
LOCATION:Bandwirker Bad\,Am Stadtbahnhof 30\,42369 Wuppertal\,Germany
SUMMARY:Training TG1 + TG2 + Masters / Wettkampfmannschaft
URL:https://rsg1885.de/index.php?option=com_jem&view=event&id=218:training-
 tg1-tg2-masters-wettkampfmannschaft-samstag
END:VEVENT
BEGIN:VEVENT
UID:event527@Ronsdorfer SG 1885
DTSTAMP:20260423T141524Z
CATEGORIES:Schwimmlernkurs
DESCRIPTION:Schwimmlernkurs\nKategorie: Schwimmlernkurs\nICS-Link: https://
 rsg1885.de/index.php?option=com_jem&view=event&id=527:schwimmlernkurs-2025
 \n
DTSTART:20260428T174500Z
DTEND:20260428T181500Z
LOCATION:Bandwirker Bad\,Am Stadtbahnhof 30\,42369 Wuppertal\,Germany
SUMMARY:Schwimmlernkurs
URL:https://rsg1885.de/index.php?option=com_jem&view=event&id=527:schwimmle
 rnkurs-2025
END:VEVENT
BEGIN:VEVENT
UID:event271@Ronsdorfer SG 1885
DTSTAMP:20260423T141524Z
CATEGORIES:Training TG1
DESCRIPTION:Training TG1\nKategorie: Training TG1\nICS-Link: https://rsg188
 5.de/index.php?option=com_jem&view=event&id=271:training-tg1-dienstag\n
DTSTART:20260428T180000Z
DTEND:20260428T190000Z
LOCATION:Bandwirker Bad\,Am Stadtbahnhof 30\,42369 Wuppertal\,Germany
SUMMARY:Training TG1
URL:https://rsg1885.de/index.php?option=com_jem&view=event&id=271:training-
 tg1-dienstag
END:VEVENT
BEGIN:VEVENT
UID:event372@Ronsdorfer SG 1885
DTSTAMP:20260423T141524Z
CATEGORIES:Training TG1\, Training TG2
DESCRIPTION:Training TG1+TG2\nKategorie: Training TG1\, Training TG2\nICS-L
 ink: https://rsg1885.de/index.php?option=com_jem&view=event&id=372:trainin
 g-tg1-tg2-freitag\n
DTSTART:20260424T190000Z
DTEND:20260424T200000Z
LOCATION:Bandwirker Bad\,Am Stadtbahnhof 30\,42369 Wuppertal\,Germany
SUMMARY:Training TG1+TG2
URL:https://rsg1885.de/index.php?option=com_jem&view=event&id=372:training-
 tg1-tg2-freitag
END:VEVENT
BEGIN:VEVENT
UID:event322@Ronsdorfer SG 1885
DTSTAMP:20260423T141524Z
CATEGORIES:Training TG2
DESCRIPTION:Training TG2\nKategorie: Training TG2\nICS-Link: https://rsg188
 5.de/index.php?option=com_jem&view=event&id=322:training-tg2-dienstag\n
DTSTART:20260428T190000Z
DTEND:20260428T200000Z
LOCATION:Bandwirker Bad\,Am Stadtbahnhof 30\,42369 Wuppertal\,Germany
SUMMARY:Training TG2
URL:https://rsg1885.de/index.php?option=com_jem&view=event&id=322:training-
 tg2-dienstag
END:VEVENT
BEGIN:VEVENT
UID:event476@Ronsdorfer SG 1885
DTSTAMP:20260423T141524Z
CATEGORIES:Training Masters/Wettkampfmannschaft
DESCRIPTION:Training Masters / Wettkampfmannschaft\nKategorie: Training Mas
 ters/Wettkampfmannschaft\nICS-Link: https://rsg1885.de/index.php?option=co
 m_jem&view=event&id=476:training-masters-wettkampfmannschaft-dienstag\n
DTSTART:20260428T200000Z
DTEND:20260428T210000Z
LOCATION:Bandwirker Bad\,Am Stadtbahnhof 30\,42369 Wuppertal\,Germany
SUMMARY:Training Masters / Wettkampfmannschaft
URL:https://rsg1885.de/index.php?option=com_jem&view=event&id=476:training-
 masters-wettkampfmannschaft-dienstag
END:VEVENT
BEGIN:VEVENT
UID:event425@Ronsdorfer SG 1885
DTSTAMP:20260423T141524Z
CATEGORIES:Training Masters/Wettkampfmannschaft
DESCRIPTION:Training Masters / Wettkampfmannschaft\nKategorie: Training Mas
 ters/Wettkampfmannschaft\nICS-Link: https://rsg1885.de/index.php?option=co
 m_jem&view=event&id=425:training-masters-wettkampfmannschaft-freitag\n
DTSTART:20260424T200000Z
DTEND:20260424T210000Z
LOCATION:Bandwirker Bad\,Am Stadtbahnhof 30\,42369 Wuppertal\,Germany
SUMMARY:Training Masters / Wettkampfmannschaft
URL:https://rsg1885.de/index.php?option=com_jem&view=event&id=425:training-
 masters-wettkampfmannschaft-freitag
END:VEVENT
END:VCALENDAR